BEGIN:VCALENDAR
VERSION:2.0
PRODID:-//wp-events-plugin.com//7.2.3.1//EN
BEGIN:VEVENT
UID:803@wisneca.com
DTSTART;TZID=America/Chicago;VALUE=DATE:20260310
DTEND;TZID=America/Chicago;VALUE=DATE:20260314
DTSTAMP:20260108T171258Z
URL:https://wisneca.com/events/2026-midwestern-region-conference/
SUMMARY:2026 Midwestern Region Conference
DESCRIPTION:Details here: https://www.necanet.org/midwestern-region-confere
 nce/homepage\n\n&nbsp\;\n\nMEETINGS CODE OF CONDUCT\nThe Wisconsin Chapter
  of the National Electrical Contractors Association (NECA) is committed to
  providing a safe\, inclusive\, and welcoming environment at its meetings 
 and conferences. Persons who attend Chapter meetings and conferences are e
 xpected to comply with this Meetings Code of Conduct. Expected Behavior: A
 ll attendees are expected to behave in a professional manner and treat oth
 er attendees\, speakers\, exhibitors\, and Chapter staff with respect.\nUn
 acceptable Behavior: Inappropriate behavior at Chapter meetings and confer
 ences will not be tolerated. Inappropriate behavior includes\, but is not 
 limited to:\n\n 	Offensive jokes\, slurs\, comments\, or other communicati
 ons related to sex\, sexual orientation\, gender\, disability\, physical a
 ppearance\, race\, national origin\, or religion\n 	Inappropriate use of s
 exual language or profanity\n 	Harassment or intimidation of any person\n 
 	Unwelcome touching\, grabbing\, or pinching\n 	Rude or boorish behavior\n
  	Intoxication/excessive alcohol consumption\n 	Disruption of presentation
 s or other events\n\nViolation of this Meetings Code of Conduct may result
  in being asked to leave the meeting or conference and being barred from a
 ttending future Chapter events. The Board of Directors Executive Committee
  is authorized to enforce this Meetings Code of Conduct.
LOCATION:Hilton Waikoloa Village\, 69-425 Waikoloa Beach Dr\, Waikoloa Vill
 age\, HI\, 96738\, United States
X-APPLE-STRUCTURED-LOCATION;VALUE=URI;X-ADDRESS=69-425 Waikoloa Beach Dr\, 
 Waikoloa Village\, HI\, 96738\, United States;X-APPLE-RADIUS=100;X-TITLE=H
 ilton Waikoloa Village:geo:0,0
END:VEVENT
BEGIN:VTIMEZONE
TZID:America/Chicago
X-LIC-LOCATION:America/Chicago
BEGIN:DAYLIGHT
DTSTART:20260308T030000
TZOFFSETFROM:-0600
TZOFFSETTO:-0500
TZNAME:CDT
END:DAYLIGHT
END:VTIMEZONE
END:VCALENDAR