BEGIN:VCALENDAR
VERSION:2.0
PRODID:-//wp-events-plugin.com//7.2.3.1//EN
BEGIN:VEVENT
UID:788@wisneca.com
DTSTART;TZID=America/Chicago;VALUE=DATE:20250722
DTEND;TZID=America/Chicago;VALUE=DATE:20250724
DTSTAMP:20241001T163319Z
URL:https://wisneca.com/events/district-4-7-summer-council-meeting/
SUMMARY:District 4 & 7 Summer Council Meeting
DESCRIPTION:
LOCATION:Hotel Fort Des Moines\, 1000 Walnut St\, Des Moines\, IA\, 50309\,
  United States
X-APPLE-STRUCTURED-LOCATION;VALUE=URI;X-ADDRESS=1000 Walnut St\, Des Moines
 \, IA\, 50309\, United States;X-APPLE-RADIUS=100;X-TITLE=Hotel Fort Des Mo
 ines:geo:0,0
END:VEVENT
BEGIN:VTIMEZONE
TZID:America/Chicago
X-LIC-LOCATION:America/Chicago
BEGIN:DAYLIGHT
DTSTART:20250309T030000
TZOFFSETFROM:-0600
TZOFFSETTO:-0500
TZNAME:CDT
END:DAYLIGHT
END:VTIMEZONE
END:VCALENDAR