BEGIN:VCALENDAR
VERSION:2.0
PRODID:-//wp-events-plugin.com//7.2.3.1//EN
BEGIN:VEVENT
UID:763@wisneca.com
DTSTART;TZID=America/Chicago;VALUE=DATE:20240130
DTEND;TZID=America/Chicago;VALUE=DATE:20240202
DTSTAMP:20240109T142818Z
URL:https://wisneca.com/events/district-iv-winter-council-meeting/
SUMMARY:District IV Winter Council Meeting
DESCRIPTION:
LOCATION:The Royal Sonesta San Juan\, 5961 Isla Verde Avenue\, Carolina\, S
 an Juan\, Puerto Rico
X-APPLE-STRUCTURED-LOCATION;VALUE=URI;X-ADDRESS=5961 Isla Verde Avenue\, Ca
 rolina\, San Juan\, Puerto Rico;X-APPLE-RADIUS=100;X-TITLE=The Royal Sones
 ta San Juan:geo:0,0
END:VEVENT
BEGIN:VTIMEZONE
TZID:America/Chicago
X-LIC-LOCATION:America/Chicago
BEGIN:STANDARD
DTSTART:20231105T010000
TZOFFSETFROM:-0500
TZOFFSETTO:-0600
TZNAME:CST
END:STANDARD
END:VTIMEZONE
END:VCALENDAR