BEGIN:VCALENDAR
VERSION:2.0
PRODID:-//wp-events-plugin.com//7.2.3.1//EN
BEGIN:VEVENT
UID:758@wisneca.com
DTSTART;TZID=America/Chicago;VALUE=DATE:20231225
DTEND;TZID=America/Chicago;VALUE=DATE:20231226
DTSTAMP:20230822T165320Z
URL:https://wisneca.com/events/office-closed-christmas-day/
SUMMARY:Office Closed: Christmas Day
DESCRIPTION:
LOCATION:Wisconsin Chapter\, NECA\, 2200 Kilgust Rd\, Monona\, WI\, 53713\,
  United States
GEO:43.039854;-89.3508162
X-APPLE-STRUCTURED-LOCATION;VALUE=URI;X-ADDRESS=2200 Kilgust Rd\, Monona\, 
 WI\, 53713\, United States;X-APPLE-RADIUS=100;X-TITLE=Wisconsin Chapter\, 
 NECA:geo:43.039854,-89.3508162
END:VEVENT
BEGIN:VTIMEZONE
TZID:America/Chicago
X-LIC-LOCATION:America/Chicago
BEGIN:STANDARD
DTSTART:20231105T010000
TZOFFSETFROM:-0500
TZOFFSETTO:-0600
TZNAME:CST
END:STANDARD
END:VTIMEZONE
END:VCALENDAR